BEGIN:VCALENDAR
VERSION:2.0
PRODID:-//ZContent.net//ZapCalLib 1.0//EN
CALSCALE:GREGORIAN
METHOD:PUBLISH
BEGIN:VEVENT
SUMMARY:Întâlnirea de duminica
DTSTART;VALUE=DATE-TIME;TZID=Europe/Bucharest:20260614T100000
DTEND;VALUE=DATE-TIME;TZID=Europe/Bucharest:20260614T120000
UID:5445-2026-06-14-10-00-002026-06-14-12-00-00-@https://logosberce
 ni.ro
DTSTAMP:20260419T123616Z
CREATED:20250101T182559Z
LAST-MODIFIED:20260419T150347Z
LOCATION:Strada Dobreni 32, Berceni 077020, Romania
STATUS:CONFIRMED
SEQUENCE:1
CATEGORIES:Întâlniri obișnuite
END:VEVENT
END:VCALENDAR
